BEGIN:VCALENDAR
PRODID:-//eluceo/ical//2.0/EN
VERSION:2.0
CALSCALE:GREGORIAN
BEGIN:VEVENT
UID:14c082b0d2f40c4a235fb5c7f55c926a
DTSTAMP:20260421T055257Z
SUMMARY:CJDS Auction
DESCRIPTION:Columbia Jewish Federation\nCommunity Calendar\nhttps://jewishc
 olumbia.org/community-calendar/cjds-auction-1473177320\n\nCJDS POSH NOSH A
 UCTION
DTSTART;TZID=America/New_York:20170128T190000
DTEND;TZID=America/New_York:20170128T220000
END:VEVENT
END:VCALENDAR
