BEGIN:VCALENDAR
PRODID:-//eluceo/ical//2.0/EN
VERSION:2.0
CALSCALE:GREGORIAN
BEGIN:VEVENT
UID:55f067dd11e9f621c554e69eef721c1b
DTSTAMP:20260421T210011Z
SUMMARY:CHEC Meeting
DESCRIPTION:Columbia Jewish Federation\nCommunity Calendar\nhttps://jewishc
 olumbia.org/community-calendar/chec-meeting-1752597349\n\nCHEC Meeting at 
 the CJF Offices
DTSTART;TZID=America/New_York:20250911T183000
DTEND;TZID=America/New_York:20250911T200000
END:VEVENT
END:VCALENDAR
