BEGIN:VCALENDAR
PRODID:-//eluceo/ical//2.0/EN
VERSION:2.0
CALSCALE:GREGORIAN
BEGIN:VEVENT
UID:c9b040ba0ad5f9931525c263af51dabe
DTSTAMP:20260424T143145Z
SUMMARY:Chanukah At the Riverbanks Zoo
DESCRIPTION:Columbia Jewish Federation\nCommunity Calendar\nhttps://jewishc
 olumbia.org/community-calendar/chanukah-at-the-riverbanks-zoo-1762372491\n
 \nChanukah At the Riverbanks Zoo
DTSTART;TZID=America/New_York:20251214T170000
DTEND;TZID=America/New_York:20251214T200000
END:VEVENT
END:VCALENDAR
