BEGIN:VCALENDAR
PRODID:-//eluceo/ical//2.0/EN
VERSION:2.0
CALSCALE:GREGORIAN
BEGIN:VEVENT
UID:d40e400b4cf81e4de28a1966129a3c69
DTSTAMP:20260423T072433Z
SUMMARY:Chabad Legacy Event: Honoring Gerry Sue Arnold
DESCRIPTION:Columbia Jewish Federation\nCommunity Calendar\nhttps://jewishc
 olumbia.org/community-calendar/chabad-legacy-event-honoring-gerry-sue-arno
 ld-1629227070\n\nChabad Legacy Event: Honoring Gerry Sue Arnold
DTSTART;TZID=America/New_York:20211108T170000
DTEND;TZID=America/New_York:20211108T190000
END:VEVENT
END:VCALENDAR
