BEGIN:VCALENDAR
PRODID:-//eluceo/ical//2.0/EN
VERSION:2.0
CALSCALE:GREGORIAN
BEGIN:VEVENT
UID:6e70eeb8fe6a548b03563c43fa09987c
DTSTAMP:20260422T032354Z
SUMMARY:Chabad Family Shabbat dinner
DESCRIPTION:Columbia Jewish Federation\nCommunity Calendar\nhttps://jewishc
 olumbia.org/community-calendar/chabad-family-shabbat-dinner--1413910230\n\
 nChabad Family Shabbat Dinner-2509 Decker Blvd.
DTSTART;TZID=America/New_York:20141114T063000
DTEND;TZID=America/New_York:20141114T200000
END:VEVENT
END:VCALENDAR
