BEGIN:VCALENDAR
PRODID:-//eluceo/ical//2.0/EN
VERSION:2.0
CALSCALE:GREGORIAN
BEGIN:VEVENT
UID:98e72b5fd445e8ab70aa565da269ccec
DTSTAMP:20260420T022507Z
SUMMARY:"Celebrating the Americas"
DESCRIPTION:Columbia Jewish Federation\nCommunity Calendar\nhttps://jewishc
 olumbia.org/community-calendar/celebrating-the-americas-1513187539\n\nPalm
 etto Chamber Orchestra presents "Celebrating the Americas" concert: includ
 ing timeless masterpieces by Barber\, Copland\, Marquez\, and Piazzolla.
DTSTART;TZID=America/New_York:20180218T190000
DTEND;TZID=America/New_York:20180218T203000
END:VEVENT
END:VCALENDAR
