BEGIN:VCALENDAR
PRODID:-//eluceo/ical//2.0/EN
VERSION:2.0
CALSCALE:GREGORIAN
BEGIN:VEVENT
UID:b0b62b123982e6ff54312096c3d75454
DTSTAMP:20260424T100334Z
SUMMARY:Bubbie's Brisket & Bakery
DESCRIPTION:Columbia Jewish Federation\nCommunity Calendar\nhttps://jewishc
 olumbia.org/community-calendar/bubbies-brisket--bakery-1448296323\n\nBubbi
 e's Brisket & Bakery. Join us for our 8th annual Jewish Food Extravaganza!
DTSTART;TZID=America/New_York:20161113T110000
DTEND;TZID=America/New_York:20161113T150000
END:VEVENT
END:VCALENDAR
