BEGIN:VCALENDAR
PRODID:-//eluceo/ical//2.0/EN
VERSION:2.0
CALSCALE:GREGORIAN
BEGIN:VEVENT
UID:cc858d5218cedf3c8d0f6a80f8d0765a
DTSTAMP:20260424T114428Z
SUMMARY:BSS: Shabbat Morning Services
DESCRIPTION:Columbia Jewish Federation\nCommunity Calendar\nhttps://jewishc
 olumbia.org/community-calendar/bss-shabbat-morning-services-1744911350\n\n
 Shabbat Morning Services
DTSTART;TZID=America/New_York:20250426T094500
DTEND;TZID=America/New_York:20250426T124500
END:VEVENT
END:VCALENDAR
