BEGIN:VCALENDAR
PRODID:-//eluceo/ical//2.0/EN
VERSION:2.0
CALSCALE:GREGORIAN
BEGIN:VEVENT
UID:dca8048b704a899469f86ab4e06e1b48
DTSTAMP:20260424T092021Z
SUMMARY:BSS: Shabbat Evening Services
DESCRIPTION:Columbia Jewish Federation\nCommunity Calendar\nhttps://jewishc
 olumbia.org/community-calendar/bss-shabbat-evening-services-1448915408\n\n
 Shabbat Evening Services
DTSTART;TZID=America/New_York:20160101T183000
DTEND;TZID=America/New_York:20160101T193000
END:VEVENT
END:VCALENDAR
