BEGIN:VCALENDAR
PRODID:-//eluceo/ical//2.0/EN
VERSION:2.0
CALSCALE:GREGORIAN
BEGIN:VEVENT
UID:077f1fc17ff88998b736a61e87318512
DTSTAMP:20260424T084528Z
SUMMARY:BSS: Religious School Open House and Friday Evening Services
DESCRIPTION:Columbia Jewish Federation\nCommunity Calendar\nhttps://jewishc
 olumbia.org/community-calendar/bss-religious-school-open-house-and-friday-
 evening-services-1657648408\n\nReligious School Open with Nosh beginning a
 t 5 pm. Followed by Friday evening services and Oneg beginning at 6 pm.
DTSTART;TZID=America/New_York:20220909T050000
DTEND;TZID=America/New_York:20220909T070000
END:VEVENT
END:VCALENDAR
