BEGIN:VCALENDAR
PRODID:-//eluceo/ical//2.0/EN
VERSION:2.0
CALSCALE:GREGORIAN
BEGIN:VEVENT
UID:cff261b40ae6c771efc0393357cefcdd
DTSTAMP:20260419T200616Z
SUMMARY:BSS: Friday Evening Services
DESCRIPTION:Columbia Jewish Federation\nCommunity Calendar\nhttps://jewishc
 olumbia.org/community-calendar/bss-friday-evening-services-1762882054\n\nF
 riday Evening Services
DTSTART;TZID=America/New_York:20260102T060000
DTEND;TZID=America/New_York:20260102T080000
END:VEVENT
END:VCALENDAR
