BEGIN:VCALENDAR
PRODID:-//eluceo/ical//2.0/EN
VERSION:2.0
CALSCALE:GREGORIAN
BEGIN:VEVENT
UID:5d8710d182dbec7ab596902798b2375d
DTSTAMP:20260425T124639Z
SUMMARY:BSS: Executive Board and Board of Directors Meetings
DESCRIPTION:Columbia Jewish Federation\nCommunity Calendar\nhttps://jewishc
 olumbia.org/community-calendar/bss-executive-board-and-board-of-directors-
 meetings-1691091282\n\n6:30 p.m. Executive Board Meeting followed by Board
  of Directors Meeting at 7 pm.
DTSTART;TZID=America/New_York:20230816T183000
DTEND;TZID=America/New_York:20230816T203000
END:VEVENT
END:VCALENDAR
