BEGIN:VCALENDAR
PRODID:-//eluceo/ical//2.0/EN
VERSION:2.0
CALSCALE:GREGORIAN
BEGIN:VEVENT
UID:b35d4264cd1d726373b44e88a34de89b
DTSTAMP:20260424T215612Z
SUMMARY:BSS: Chavurah Havdalah Program
DESCRIPTION:Columbia Jewish Federation\nCommunity Calendar\nhttps://jewishc
 olumbia.org/community-calendar/bss-chavurah-havdalah-program-1769107107\n\
 n***A Chavurah is a small group of people that gather for a variety of rea
 sons including: to socialize\, to celebrate\, to study\, to learn\, or to 
 pray.\nSaturday\, February 21st\n5:30pm-7:00pm\nJoin us for dinner and to 
 welcome the week ahead with shul friends from your neck of the woods. Meet
  familiar faces and greet some new folks ~ a great way to begin the new ye
 ar!\n\nPot Luck Dairy Dinner and Havdalah at the home of Jeff and Mary Sil
 verberg in 29206\nPot Luck Dairy Dinner and Havdalah at the...
DTSTART;TZID=America/New_York:20260221T173000
DTEND;TZID=America/New_York:20260221T193000
END:VEVENT
END:VCALENDAR
