BEGIN:VCALENDAR
PRODID:-//eluceo/ical//2.0/EN
VERSION:2.0
CALSCALE:GREGORIAN
BEGIN:VEVENT
UID:f65b9f7ced004b9fbe1b0cab957f2d8f
DTSTAMP:20260424T185732Z
SUMMARY:BSS: Bubbie's Jewish Food Festival
DESCRIPTION:Columbia Jewish Federation\nCommunity Calendar\nhttps://jewishc
 olumbia.org/community-calendar/bss-bubbies-jewish-food-festival-1653068931
 \n\nTraditional Jewish Foods and Baked Goods!\nBrisket\nBBQ Brisket\nCorne
 d Beef\nSandwiches\nStuffed Cabbage\nChicken Matzah Ball Soup\nIsraeli Sal
 ad\nTzimmes\nKasha Varnishkes\nKid’s Meals\nChallah\nMandel Bread\nRugel
 ach\nFabulous Homemade Cakes\, Pies\, Cheesecakes\, Cookies and More!
DTSTART;TZID=America/New_York:20221113T110000
DTEND;TZID=America/New_York:20221113T150000
END:VEVENT
END:VCALENDAR
