BEGIN:VCALENDAR
PRODID:-//eluceo/ical//2.0/EN
VERSION:2.0
CALSCALE:GREGORIAN
BEGIN:VEVENT
UID:2910229ee89e94a85ee2af83a6f2094b
DTSTAMP:20260420T174029Z
SUMMARY:BSS:  Teacher Inservice
DESCRIPTION:Columbia Jewish Federation\nCommunity Calendar\nhttps://jewishc
 olumbia.org/community-calendar/bss--teacher-inservice-1657647689\n\nReligi
 ous School Teacher Meeting
DTSTART;TZID=America/New_York:20220828T100000
DTEND;TZID=America/New_York:20220828T120000
END:VEVENT
END:VCALENDAR
