BEGIN:VCALENDAR
PRODID:-//eluceo/ical//2.0/EN
VERSION:2.0
CALSCALE:GREGORIAN
BEGIN:VEVENT
UID:3d93cc26456cfa26f9dfafb6e5c62b04
DTSTAMP:20260422T030238Z
SUMMARY:Board of Directors' Meeting (CJF)
DESCRIPTION:Columbia Jewish Federation\nCommunity Calendar\nhttps://jewishc
 olumbia.org/community-calendar/board-of-directors-meeting-cjf-oct18\n\nCol
 umbia Jewish Federation Board of Directors meet on the first Monday of eve
 ry month\, except when otherwise noted\, in Conference Room A at the Katie
  & Irwin Kahn JCC.
DTSTART;TZID=America/New_York:20181008T190000
DTEND;TZID=America/New_York:20181008T203000
END:VEVENT
END:VCALENDAR
