BEGIN:VCALENDAR
PRODID:-//eluceo/ical//2.0/EN
VERSION:2.0
CALSCALE:GREGORIAN
BEGIN:VEVENT
UID:0fad6dba846ec2b197f969c0c40dd824
DTSTAMP:20260420T174019Z
SUMMARY:Bingo & Live Auction 
DESCRIPTION:Columbia Jewish Federation\nCommunity Calendar\nhttps://jewishc
 olumbia.org/community-calendar/bingo--live-auction-1448488840\n\nBingo\, L
 ive Auction and Dinner Honoring Hazzan Michal Rubin\, Cantor Chana Fedrick
  and Jeff Jacobs. Latke bar\, heavy or d'oeuvres\, desserts\, and an open 
 bar. $35 per person (includes 1 bingo card). Additional bingo cards for sa
 le at the door $10 each or 3 for $25. RSVP to the synagogue office by Dece
 mber 9th.
DTSTART;TZID=America/New_York:20151213T180000
DTEND;TZID=America/New_York:20151213T210000
END:VEVENT
END:VCALENDAR
