BEGIN:VCALENDAR
PRODID:-//eluceo/ical//2.0/EN
VERSION:2.0
CALSCALE:GREGORIAN
BEGIN:VEVENT
UID:0f0658aab5ae2e05c9b2980ebdb01bc7
DTSTAMP:20260421T124139Z
SUMMARY:Tuesdays with Friends (BSS)
DESCRIPTION:Columbia Jewish Federation\nCommunity Calendar\nhttps://jewishc
 olumbia.org/community-calendar/beth-shalom-synagogue-tuesdays-with-friends
 -1517865597\n\nTuesdays with Friends. Senior Program—Everyone Welcome. C
 ome Enjoy the Fun\, Food & Friendship. 11:30 am-1 pm.
DTSTART;TZID=America/New_York:20180605T113000
DTEND;TZID=America/New_York:20180605T130000
END:VEVENT
END:VCALENDAR
