BEGIN:VCALENDAR
PRODID:-//eluceo/ical//2.0/EN
VERSION:2.0
CALSCALE:GREGORIAN
BEGIN:VEVENT
UID:0dc191cc606c857c50c611a6820478e1
DTSTAMP:20260420T184915Z
SUMMARY:Tuesdays with Friends (BSS)
DESCRIPTION:Columbia Jewish Federation\nCommunity Calendar\nhttps://jewishc
 olumbia.org/community-calendar/beth-shalom-synagogue-tuesdays-with-friends
 -1517244846\n\nTuesdays with Friends. Senior Program—Everyone Welcome. C
 ome Enjoy the Fun\, Food & Friendship. Featuring Ken & Igor.
DTSTART;TZID=America/New_York:20180306T110000
DTEND;TZID=America/New_York:20180306T130000
END:VEVENT
END:VCALENDAR
