BEGIN:VCALENDAR
PRODID:-//eluceo/ical//2.0/EN
VERSION:2.0
CALSCALE:GREGORIAN
BEGIN:VEVENT
UID:a74ef12d306898aaa62b62e41f2842c3
DTSTAMP:20260423T072140Z
SUMMARY:Beth Shalom Synagogue: Tuesdays with Friends 
DESCRIPTION:Columbia Jewish Federation\nCommunity Calendar\nhttps://jewishc
 olumbia.org/community-calendar/beth-shalom-synagogue-tuesdays-with-friends
 -1452105464\n\nTuesdays with Friends - Senior Program. Everyone welcome. C
 ome enjoy the fun\, food and friendship. There is no charge for lunch than
 ks to our generous donors. Featuring: A Holiday Celebration & Creative Art
 s with Lyssa Harvey.
DTSTART;TZID=America/New_York:20161206T113000
DTEND;TZID=America/New_York:20161206T130000
END:VEVENT
END:VCALENDAR
