BEGIN:VCALENDAR
PRODID:-//eluceo/ical//2.0/EN
VERSION:2.0
CALSCALE:GREGORIAN
BEGIN:VEVENT
UID:9baaad978fdebea642da1349b66b9600
DTSTAMP:20260425T025850Z
SUMMARY:Beth Shalom Synagogue: Tuesdays with Friends
DESCRIPTION:Columbia Jewish Federation\nCommunity Calendar\nhttps://jewishc
 olumbia.org/community-calendar/beth-shalom-synagogue-tuesdays-with-friends
 -1430318975\n\nTuesdays with Friends. Senior Program—Everyone Welcome. C
 ome Enjoy the Fun\, Food & Friendship. 11:30 am-1 pm. There is no cost to 
 attendees for the luncheon on these dates due to our generous sponsors.
DTSTART;TZID=America/New_York:20150707T113000
DTEND;TZID=America/New_York:20150707T130000
END:VEVENT
END:VCALENDAR
