BEGIN:VCALENDAR
PRODID:-//eluceo/ical//2.0/EN
VERSION:2.0
CALSCALE:GREGORIAN
BEGIN:VEVENT
UID:46c413d2d72509d806723d17068f2191
DTSTAMP:20260421T024914Z
SUMMARY:Beth Shalom Synagogue: Shavuot Fest
DESCRIPTION:Columbia Jewish Federation\nCommunity Calendar\nhttps://jewishc
 olumbia.org/community-calendar/beth-shalom-synagogue-shavuot-fest-14937549
 69\n\nShavuot Fest at Beth Shalom. 2 programs\, 2 spaces\, 1 time.The Big 
 10 (For Adults)  5:45 p.m. Supper 6:30 p.m. Program10 Commandments or 10 S
 uggestions? SOP's? Are words from 3500 years ago still meaningful? What's 
 G-d got to do with it?Blintzes\, salads\, cheesecake and other desserts. B
 eer & wine.  Reserve your blintz now by calling the office at 782-2500. **
 **************************************************************************
 **** Super Hero Shavuot (For All Kids) 5:45 p.m. Supper & progr...
DTSTART;TZID=America/New_York:20170531T174500
DTEND;TZID=America/New_York:20170531T200000
END:VEVENT
END:VCALENDAR
