BEGIN:VCALENDAR
PRODID:-//eluceo/ical//2.0/EN
VERSION:2.0
CALSCALE:GREGORIAN
BEGIN:VEVENT
UID:921f52df425068c0a9a2130dfdc2283d
DTSTAMP:20260424T024525Z
SUMMARY:Shabbat Morning Services (BSS)
DESCRIPTION:Columbia Jewish Federation\nCommunity Calendar\nhttps://jewishc
 olumbia.org/community-calendar/beth-shalom-synagogue-shabbat-morning-servi
 ces-1517245341\n\nShabbat morning services\; Kiddush luncheon following se
 rvices\; Talmud study with Rabbi Case in the library after Kiddush.
DTSTART;TZID=America/New_York:20180210T093000
DTEND;TZID=America/New_York:20180210T120000
END:VEVENT
END:VCALENDAR
