BEGIN:VCALENDAR
PRODID:-//eluceo/ical//2.0/EN
VERSION:2.0
CALSCALE:GREGORIAN
BEGIN:VEVENT
UID:a1b3bee3cee322f5800e648ddbf909ee
DTSTAMP:20260423T233139Z
SUMMARY:Naja Weinkle's Bat Mitzvah (BSS)
DESCRIPTION:Columbia Jewish Federation\nCommunity Calendar\nhttps://jewishc
 olumbia.org/community-calendar/beth-shalom-synagogue-naja-weinkles-bat-mit
 zvah-1525810179\n\nNaja Weinkle to become a Bat Mitzvah.
DTSTART;TZID=America/New_York:20190126T093000
DTEND;TZID=America/New_York:20190126T123000
END:VEVENT
END:VCALENDAR
