BEGIN:VCALENDAR
PRODID:-//eluceo/ical//2.0/EN
VERSION:2.0
CALSCALE:GREGORIAN
BEGIN:VEVENT
UID:33bba08077fb274d2405d843ed4a34b7
DTSTAMP:20260425T164155Z
SUMMARY:Beth Shalom Synagogue: Megillah Reading and Purim Celebration
DESCRIPTION:Columbia Jewish Federation\nCommunity Calendar\nhttps://jewishc
 olumbia.org/community-calendar/beth-shalom-synagogue-megillah-reading-and-
 purim-celebration-1642612381\n\nMegillah Reading and Purim Celebration
DTSTART;TZID=America/New_York:20220316T180000
DTEND;TZID=America/New_York:20220316T210000
END:VEVENT
END:VCALENDAR
