BEGIN:VCALENDAR
PRODID:-//eluceo/ical//2.0/EN
VERSION:2.0
CALSCALE:GREGORIAN
BEGIN:VEVENT
UID:382001eae11cc094e8afa752007c438b
DTSTAMP:20260425T162256Z
SUMMARY:Liam Sexton's Bar Mitzvah (BSS)
DESCRIPTION:Columbia Jewish Federation\nCommunity Calendar\nhttps://jewishc
 olumbia.org/community-calendar/beth-shalom-synagogue-liam-sextons-bar-mitz
 vah-1517867728\n\nShabbat morning services\; Liam Sexton's Bar Mitzvah.
DTSTART;TZID=America/New_York:20180825T093000
DTEND;TZID=America/New_York:20180825T120000
END:VEVENT
END:VCALENDAR
