BEGIN:VCALENDAR
PRODID:-//eluceo/ical//2.0/EN
VERSION:2.0
CALSCALE:GREGORIAN
BEGIN:VEVENT
UID:10bd65be9714063b1b0151ebd9467585
DTSTAMP:20260422T025850Z
SUMMARY:Beth Shalom Synagogue: Kosher Cafe
DESCRIPTION:Columbia Jewish Federation\nCommunity Calendar\nhttps://jewishc
 olumbia.org/community-calendar/beth-shalom-synagogue-kosher-cafe-166802539
 9\n\nCome dine in or take out a kosher cooked meal. Menu and More details 
 TBA
DTSTART;TZID=America/New_York:20230119T170000
DTEND;TZID=America/New_York:20230119T190000
END:VEVENT
END:VCALENDAR
