BEGIN:VCALENDAR
PRODID:-//eluceo/ical//2.0/EN
VERSION:2.0
CALSCALE:GREGORIAN
BEGIN:VEVENT
UID:f47ba555d15caca7f260757d59a5a51f
DTSTAMP:20260423T090055Z
SUMMARY:Beth Shalom Synagogue: Jack Lapin Bar Mitzvah
DESCRIPTION:Columbia Jewish Federation\nCommunity Calendar\nhttps://jewishc
 olumbia.org/community-calendar/beth-shalom-synagogue-jack-lapin-bar-mitzva
 h-1452106144\n\nJack Lapin Bar Mitzvah. Special kiddush luncheon will foll
 ow services in honor of the Bar Mitzvah.
DTSTART;TZID=America/New_York:20160521T093000
DTEND;TZID=America/New_York:20160521T123000
END:VEVENT
END:VCALENDAR
