BEGIN:VCALENDAR
PRODID:-//eluceo/ical//2.0/EN
VERSION:2.0
CALSCALE:GREGORIAN
BEGIN:VEVENT
UID:481844f32c0d2fdd4e13bbe7598add40
DTSTAMP:20260424T221908Z
SUMMARY:Beth Shalom Synagogue: "I Shall Not Be Silent"
DESCRIPTION:Columbia Jewish Federation\nCommunity Calendar\nhttps://jewishc
 olumbia.org/community-calendar/beth-shalom-synagogue-i-shall-not-be-silent
 -1452029935\n\nJoin us at Beth Shalom Synagogue for this special MLK weeke
 nd screening of the award winning documentary: "I Shall Not Be Silent". A 
 documentary film about a rabbi who would not be silenced. From synaogogues
  in 1930s Berlin to the 1963 March on Washington. *With Andre Braugher rea
 ding excerpts of Rabbi Prinz's writings.*RSVP for planning purposes to the
  BSS office 782-2500.
DTSTART;TZID=America/New_York:20160118T183000
DTEND;TZID=America/New_York:20160118T200000
END:VEVENT
END:VCALENDAR
