BEGIN:VCALENDAR
PRODID:-//eluceo/ical//2.0/EN
VERSION:2.0
CALSCALE:GREGORIAN
BEGIN:VEVENT
UID:ff95c182269f08dd61b792cbc98e56bd
DTSTAMP:20260421T201827Z
SUMMARY:Beth Shalom Synagogue: Executive Board Meeting
DESCRIPTION:Columbia Jewish Federation\nCommunity Calendar\nhttps://jewishc
 olumbia.org/community-calendar/beth-shalom-synagogue-executive-board-meeti
 ng-1487090101\n\nExecutive Board Meeting in the library.
DTSTART;TZID=America/New_York:20170215T181500
DTEND;TZID=America/New_York:20170215T185500
END:VEVENT
END:VCALENDAR
