BEGIN:VCALENDAR
PRODID:-//eluceo/ical//2.0/EN
VERSION:2.0
CALSCALE:GREGORIAN
BEGIN:VEVENT
UID:c92dd60e4551638153e5562730e57153
DTSTAMP:20260426T013336Z
SUMMARY:Beth Shalom Synagogue: Executive Board Meeting
DESCRIPTION:Columbia Jewish Federation\nCommunity Calendar\nhttps://jewishc
 olumbia.org/community-calendar/beth-shalom-synagogue-executive-board-meeti
 ng-1452098701\n\nExecutive Board Meeting in the library.
DTSTART;TZID=America/New_York:20160817T181500
DTEND;TZID=America/New_York:20160817T190000
END:VEVENT
END:VCALENDAR
