BEGIN:VCALENDAR
PRODID:-//eluceo/ical//2.0/EN
VERSION:2.0
CALSCALE:GREGORIAN
BEGIN:VEVENT
UID:d71ec6bbb4e327b020dafdf15ffffc37
DTSTAMP:20260424T010854Z
SUMMARY:Beth Shalom Synagogue: Emma Gendil Bat Mitzvah
DESCRIPTION:Columbia Jewish Federation\nCommunity Calendar\nhttps://jewishc
 olumbia.org/community-calendar/beth-shalom-synagogue-emma-gendil-bat-mitzv
 ah-1452108773\n\nEmma Gendil Bat Mitzvah. Special kiddush luncheon will fo
 llow services in honor of the Bat Mitzvah.
DTSTART;TZID=America/New_York:20160528T093000
DTEND;TZID=America/New_York:20160528T123000
END:VEVENT
END:VCALENDAR
