BEGIN:VCALENDAR
PRODID:-//eluceo/ical//2.0/EN
VERSION:2.0
CALSCALE:GREGORIAN
BEGIN:VEVENT
UID:cfa1021a324709fa7df8c0117d9a61e2
DTSTAMP:20260422T215948Z
SUMMARY:Beth Shalom Synagogue: Dinner & a Minyan
DESCRIPTION:Columbia Jewish Federation\nCommunity Calendar\nhttps://jewishc
 olumbia.org/community-calendar/beth-shalom-synagogue-dinner--a-minyan-1487
 092288\n\nFree pasta dinner followed by minyan.
DTSTART;TZID=America/New_York:20170222T171500
DTEND;TZID=America/New_York:20170222T181500
END:VEVENT
END:VCALENDAR
