BEGIN:VCALENDAR
PRODID:-//eluceo/ical//2.0/EN
VERSION:2.0
CALSCALE:GREGORIAN
BEGIN:VEVENT
UID:747af812d699caf3712db89e2bf3a00c
DTSTAMP:20260423T040129Z
SUMMARY:Beth Shalom Synagogue: Board of Directors Meeting
DESCRIPTION:Columbia Jewish Federation\nCommunity Calendar\nhttps://jewishc
 olumbia.org/community-calendar/beth-shalom-synagogue-board-of-directors-me
 eting-1452105631\n\nBoard of Directors Meeting in the library.
DTSTART;TZID=America/New_York:20161211T100000
DTEND;TZID=America/New_York:20161211T110000
END:VEVENT
END:VCALENDAR
