BEGIN:VCALENDAR
PRODID:-//eluceo/ical//2.0/EN
VERSION:2.0
CALSCALE:GREGORIAN
BEGIN:VEVENT
UID:1cc978243d31c6f74758285e2488a0ca
DTSTAMP:20260424T185357Z
SUMMARY:Beth Shalom Synagogue: Board of Directors Meeting
DESCRIPTION:Columbia Jewish Federation\nCommunity Calendar\nhttps://jewishc
 olumbia.org/community-calendar/beth-shalom-synagogue-board-of-directors-me
 eting-1452097798\n\nBoard of Directors Meeting in the library.
DTSTART;TZID=America/New_York:20160622T190000
DTEND;TZID=America/New_York:20160622T204500
END:VEVENT
END:VCALENDAR
