BEGIN:VCALENDAR
PRODID:-//eluceo/ical//2.0/EN
VERSION:2.0
CALSCALE:GREGORIAN
BEGIN:VEVENT
UID:29d7fcee5a6e1f2bc84fda77de7b0d91
DTSTAMP:20260420T235959Z
SUMMARY:Beth Shalom Synagogue: AIPAC: Dr. Mitchell Bard
DESCRIPTION:Columbia Jewish Federation\nCommunity Calendar\nhttps://jewishc
 olumbia.org/community-calendar/beth-shalom-synagogue-aipac-dr-mitchell-bar
 d-1482182073\n\nBeth Shalom & AIPAC present guest speaker\, Dr. Mitchell B
 ard\, American foreign policy analyst\, editor\, and author. He will speak
  on "Israel in 2017: Challenges & Opportunities in a Turbulent Region." Br
 eakfast will be served.
DTSTART;TZID=America/New_York:20170122T103000
DTEND;TZID=America/New_York:20170122T120000
END:VEVENT
END:VCALENDAR
