BEGIN:VCALENDAR
PRODID:-//eluceo/ical//2.0/EN
VERSION:2.0
CALSCALE:GREGORIAN
BEGIN:VEVENT
UID:1ad44a6fae1ef8bfaa234168d2beab8a
DTSTAMP:20260421T145838Z
SUMMARY:Beth Shalom Synagogue: Adult Ed - Rabbinic Perspectives on Past Liv
 es...
DESCRIPTION:Columbia Jewish Federation\nCommunity Calendar\nhttps://jewishc
 olumbia.org/community-calendar/beth-shalom-synagogue-adult-ed---rabbinic-p
 erspectives-on-past-lives-1454361880\n\nAdult Education - Rabbi Jonathan C
 ase discusses: "Rabbinic Perspectives on Past Lives\, Re-incarnation\, and
  the World to Come.
DTSTART;TZID=America/New_York:20160225T191500
DTEND;TZID=America/New_York:20160225T201500
END:VEVENT
END:VCALENDAR
