BEGIN:VCALENDAR
PRODID:-//eluceo/ical//2.0/EN
VERSION:2.0
CALSCALE:GREGORIAN
BEGIN:VEVENT
UID:009c93b3f9ccf5cb5ea3bff9b2f0a151
DTSTAMP:20260425T153703Z
SUMMARY:ADL - Empowered Parents Summit S2- CJF Office
DESCRIPTION:Columbia Jewish Federation\nCommunity Calendar\nhttps://jewishc
 olumbia.org/community-calendar/adl---empowered-parents-summit-s2--cjf-offi
 ce-1756996284\n\nSchool leaders and educators are essential in creating sa
 fe environments for Jewish students. This workshop presents ADL&#039\;s co
 mprehensive framework featuring six critical action items to combat antise
 mitism effectively. Explore best practices for building inclusive school c
 ultures\, responding to incidents\, and fostering understanding across you
 r community. Leave equipped with practical tools to transform your school 
 into a model of safety and belonging where all students\, especially Jewis
 h...
DTSTART;TZID=America/New_York:20250914T130000
DTEND;TZID=America/New_York:20250914T143000
END:VEVENT
END:VCALENDAR
