BEGIN:VCALENDAR
PRODID:-//eluceo/ical//2.0/EN
VERSION:2.0
CALSCALE:GREGORIAN
BEGIN:VEVENT
UID:f72f1937ecea0fc5318792c22574cdc6
DTSTAMP:20260425T215924Z
SUMMARY:AARP SC MLK Day Film Screening - Rosenwald
DESCRIPTION:Columbia Jewish Federation\nCommunity Calendar\nhttps://jewishc
 olumbia.org/community-calendar/aarp-sc-mlk-day-film-screening---rosenwald-
 1767109683\n\nRosenwald – 11:00 a.m.\n\nDocumentary\n\nDiscover the stor
 y of Julius Rosenwald\, a business leader and philanthropist who partnered
  with Black communities across the rural South to help build thousands of 
 schools during the Jim Crow era. Rosenwald highlights the power of collabo
 ration\, education and community leadership in expanding opportunity for g
 enerations of students. This inspiring documentary connects past efforts f
 or equity to the ongoing work for civil rights today.
DTSTART;TZID=America/New_York:20260119T110000
DTEND;TZID=America/New_York:20260119T131500
END:VEVENT
END:VCALENDAR
