BEGIN:VCALENDAR
PRODID:-//eluceo/ical//2.0/EN
VERSION:2.0
CALSCALE:GREGORIAN
BEGIN:VEVENT
UID:e2182d4a78d7c5b835c317bb85c3a6f0
DTSTAMP:20260423T040240Z
SUMMARY:Art Inspired - Women's Philanthropy at Columbia Jewish Federation
DESCRIPTION:Columbia Jewish Federation\nCommunity Calendar\nhttps://jewishc
 olumbia.org/community-calendar/a-womens-philanthropy-at-columbia-jewish-fe
 deration\n\nColumbia Museum of Art\n\nThursday\, October 19\, 2023—7 p.m
 \n\nLimited Space - registration required
DTSTART;TZID=America/New_York:20231019T190000
DTEND;TZID=America/New_York:20231019T210000
END:VEVENT
END:VCALENDAR
