BEGIN:VCALENDAR
PRODID:-//eluceo/ical//2.0/EN
VERSION:2.0
CALSCALE:GREGORIAN
BEGIN:VEVENT
UID:cf3369a82e97a93ce0b155eb4d293c37
DTSTAMP:20260424T130959Z
SUMMARY:Shine A Light On: Lantern Walk
DESCRIPTION:Columbia Jewish Federation\nCommunity Calendar\nhttps://jewishc
 olumbia.org/community-calendar/LanternWalk\n\nSC Virtual Chanukah Gatherin
 g and Lantern Walk\n\nJoin South Carolina Jewish communities and allies a
 t 6:00 pm for a short virtual gathering (via Zoom) featuring civic and rel
 igious leaders from across the state\, followed by a statewide lantern wal
 k at 6:30 pm to Shine A Light On Antisemitism. Visit https://bitly.com/s
 hinealighton by noon on November 17th for more information and to reserv
 e your lantern making kit!
DTSTART;TZID=America/New_York:20211202T180000
DTEND;TZID=America/New_York:20211202T190000
END:VEVENT
END:VCALENDAR
