BEGIN:VCALENDAR
PRODID:-//eluceo/ical//2.0/EN
VERSION:2.0
CALSCALE:GREGORIAN
BEGIN:VEVENT
UID:fad563f4f6d6663dfb6eaceeb9c6588c
DTSTAMP:20260426T002403Z
SUMMARY:Beth Shalom Synagogue: Shabbat Morning Services
DESCRIPTION:Columbia Jewish Federation\nCommunity Calendar\nhttps://jewishc
 olumbia.org/community-calendar/Event97\n\nShabbat Morning Services. Kiddus
 h luncheon following services. Talmud study with Rabbi Case in the library
  following Kiddush.
DTSTART;TZID=America/New_York:20150207T094500
DTEND;TZID=America/New_York:20150207T101500
END:VEVENT
END:VCALENDAR
