BEGIN:VCALENDAR
PRODID:-//eluceo/ical//2.0/EN
VERSION:2.0
CALSCALE:GREGORIAN
BEGIN:VEVENT
UID:d1f571805b97e4cf83041778d6086c32
DTSTAMP:20260423T055714Z
SUMMARY:Beth Shalom Synagogue: Shabbat Morning Services
DESCRIPTION:Columbia Jewish Federation\nCommunity Calendar\nhttps://jewishc
 olumbia.org/community-calendar/Event90\n\nShabbat Morning Services. Kiddus
 h luncheon following services. Talmud study with Rabbi Case in the library
  following Kiddush.
DTSTART;TZID=America/New_York:20150117T094500
DTEND;TZID=America/New_York:20150117T101500
END:VEVENT
END:VCALENDAR
