BEGIN:VCALENDAR
PRODID:-//eluceo/ical//2.0/EN
VERSION:2.0
CALSCALE:GREGORIAN
BEGIN:VEVENT
UID:ab4f455534b91f25fd379bfd99724268
DTSTAMP:20260425T223333Z
SUMMARY:New Years Day
DESCRIPTION:Columbia Jewish Federation\nCommunity Calendar\nhttps://jewishc
 olumbia.org/community-calendar/Event84\n\n&nbsp
DTSTART;TZID=America/New_York:20150101T120000
DTEND;TZID=America/New_York:20150101T133000
END:VEVENT
END:VCALENDAR
