BEGIN:VCALENDAR
PRODID:-//eluceo/ical//2.0/EN
VERSION:2.0
CALSCALE:GREGORIAN
BEGIN:VEVENT
UID:ca2cf402e47c84113e61fdf130eb9c55
DTSTAMP:20260420T212328Z
SUMMARY:Chanukah
DESCRIPTION:Columbia Jewish Federation\nCommunity Calendar\nhttps://jewishc
 olumbia.org/community-calendar/Event78\n\n&nbsp
DTSTART;TZID=America/New_York:20141217T120000
DTEND;TZID=America/New_York:20141224T133000
END:VEVENT
END:VCALENDAR
