BEGIN:VCALENDAR
PRODID:-//eluceo/ical//2.0/EN
VERSION:2.0
CALSCALE:GREGORIAN
BEGIN:VEVENT
UID:6166cab221a614fa16184bd3b3637231
DTSTAMP:20260422T062425Z
SUMMARY:Beth Shalom Synagogue: Tuesdays with Friends
DESCRIPTION:Columbia Jewish Federation\nCommunity Calendar\nhttps://jewishc
 olumbia.org/community-calendar/Event70\n\n&nbsp
DTSTART;TZID=America/New_York:20141202T113000
DTEND;TZID=America/New_York:20141202T120000
END:VEVENT
END:VCALENDAR
