BEGIN:VCALENDAR
PRODID:-//eluceo/ical//2.0/EN
VERSION:2.0
CALSCALE:GREGORIAN
BEGIN:VEVENT
UID:c9896afba85f900340e41df1e24e5ab9
DTSTAMP:20260423T231735Z
SUMMARY:Beth Shalom Synagogue: Shabbat Morning Services
DESCRIPTION:Columbia Jewish Federation\nCommunity Calendar\nhttps://jewishc
 olumbia.org/community-calendar/Event47\n\nShabbat Morning Services\; Kiddu
 sh luncheon following services\; Talmud study with Rabbi Case in the libra
 ry after Kiddush.
DTSTART;TZID=America/New_York:20141018T094500
DTEND;TZID=America/New_York:20141018T101500
END:VEVENT
END:VCALENDAR
