BEGIN:VCALENDAR
PRODID:-//eluceo/ical//2.0/EN
VERSION:2.0
CALSCALE:GREGORIAN
BEGIN:VEVENT
UID:2794c815b46be6486e52e7ca5d1aed6e
DTSTAMP:20260424T212411Z
SUMMARY:Beth Shalom Synagogue: Kever Avot Services at Arcadia Lakes Cemeter
 y
DESCRIPTION:Columbia Jewish Federation\nCommunity Calendar\nhttps://jewishc
 olumbia.org/community-calendar/Event22\n\nKever Avot Services at Arcadia L
 akes Cemetery
DTSTART;TZID=America/New_York:20140928T110000
DTEND;TZID=America/New_York:20140928T113000
END:VEVENT
END:VCALENDAR
