BEGIN:VCALENDAR
PRODID:-//eluceo/ical//2.0/EN
VERSION:2.0
CALSCALE:GREGORIAN
BEGIN:VEVENT
UID:8bcbeff19d91528d5552f5d2fbe252c6
DTSTAMP:20260419T194806Z
SUMMARY:Beth Shalom Synagogue: Tashlich Services
DESCRIPTION:Columbia Jewish Federation\nCommunity Calendar\nhttps://jewishc
 olumbia.org/community-calendar/Event17\n\nTashlich Services at the home of
  Dr. Steven Rosansky - 526 N. Trenholm Road
DTSTART;TZID=America/New_York:20140925T133000
DTEND;TZID=America/New_York:20140925T140000
END:VEVENT
END:VCALENDAR
