BEGIN:VCALENDAR
PRODID:-//eluceo/ical//2.0/EN
VERSION:2.0
CALSCALE:GREGORIAN
BEGIN:VEVENT
UID:9497f7f8b60a3b5d641c5f3e82aec9ce
DTSTAMP:20260425T034553Z
SUMMARY:Beth Shalom Synagogue: Laurel Raxter Bat Mitzvah
DESCRIPTION:Columbia Jewish Federation\nCommunity Calendar\nhttps://jewishc
 olumbia.org/community-calendar/Event163\n\n&nbsp
DTSTART;TZID=America/New_York:20150801T094500
DTEND;TZID=America/New_York:20150801T101500
END:VEVENT
END:VCALENDAR
